BEGIN:VCALENDAR
VERSION:2.0
PRODID:-//Squarespace Inc/Squarespace 6//v6//EN
BEGIN:VEVENT
UID:615b506f7a3b7e4db2975955@squarespace.com
DTSTAMP:20211004T191220Z
DTSTART:20211007T140000Z
DTEND:20211007T150500Z
SUMMARY:Fellowships\, Opportunities\, and the Future of Science Journalism
END:VEVENT
END:VCALENDAR
