BEGIN:VCALENDAR
VERSION:2.0
PRODID:-//Squarespace Inc/Squarespace 6//v6//EN
BEGIN:VEVENT
UID:5f5fb3f22df6680d69903447@squarespace.com
DTSTAMP:20200916T210259Z
DTSTART:20200915T123000Z
DTEND:20200915T133000Z
SUMMARY:+SocialGood Fireside Chat
GEO:40.720756;-74.000761
LOCATION:Online Event
END:VEVENT
END:VCALENDAR
