BEGIN:VCALENDAR
VERSION:2.0
PRODID:-//Squarespace Inc/Squarespace 6//v6//EN
BEGIN:VEVENT
UID:5f5fb3f22df6680d69903449@squarespace.com
DTSTAMP:20200916T210717Z
DTSTART:20200916T170000Z
DTEND:20200916T183000Z
SUMMARY:American Leadership in Advancing the SDGs
GEO:40.720756;-74.000761
LOCATION:Online Event
END:VEVENT
END:VCALENDAR
