BEGIN:VCALENDAR
VERSION:2.0
PRODID:-//Squarespace Inc/Squarespace 6//v6//EN
BEGIN:VEVENT
UID:5f5fb3f22df6680d69903445@squarespace.com
DTSTAMP:20200916T210240Z
DTSTART:20200909T140000Z
DTEND:20200909T170000Z
SUMMARY:UN Youth Plenary
END:VEVENT
END:VCALENDAR
