BEGIN:VCALENDAR
VERSION:2.0
PRODID:-//Squarespace Inc/Squarespace 6//v6//EN
BEGIN:VEVENT
UID:5f5fb3f22df6680d6990344b@squarespace.com
DTSTAMP:20200916T210653Z
DTSTART:20200928T233000Z
DTEND:20200930T003000Z
SUMMARY:YOUNGA Forum
GEO:40.720756;-74.000761
LOCATION:Online Event
END:VEVENT
END:VCALENDAR
