BEGIN:VCALENDAR
VERSION:2.0
PRODID:-//Squarespace Inc/Squarespace 6//v6//EN
BEGIN:VEVENT
UID:608693e097326e3f522a4e66@squarespace.com
DTSTAMP:20210426T102537Z
DTSTART:20210427T150000Z
DTEND:20210427T160000Z
SUMMARY:#EquiTalks - Building Connected Communities
END:VEVENT
END:VCALENDAR
