BEGIN:VCALENDAR
VERSION:2.0
PRODID:-//Squarespace Inc/Squarespace 6//v6//EN
BEGIN:VEVENT
UID:6238ebfd92a4447e87e0ec0a@squarespace.com
DTSTAMP:20220321T213618Z
DTSTART:20220324T150000Z
DTEND:20220324T163000Z
SUMMARY:Equal Work\, Equal Pay: Reducing the Gender Pay Gap
END:VEVENT
END:VCALENDAR
