BEGIN:VCALENDAR
VERSION:2.0
PRODID:-//Squarespace Inc/Squarespace 6//v6//EN
BEGIN:VEVENT
UID:61a53159e004e72ec2288d89@squarespace.com
DTSTAMP:20211129T200826Z
DTSTART:20211202T140000Z
DTEND:20211202T160000Z
SUMMARY:Environmental\, Social and Governance Roundtable (Post #COP26)
END:VEVENT
END:VCALENDAR
