BEGIN:VCALENDAR
VERSION:2.0
PRODID:-//Squarespace Inc/Squarespace 6//v6//EN
BEGIN:VEVENT
UID:603cdb460aa63f6cd3e2c122@squarespace.com
DTSTAMP:20210301T122704Z
DTSTART:20210303T120000Z
DTEND:20210303T130000Z
SUMMARY:EiE-GenKit Virtual Launch
END:VEVENT
END:VCALENDAR
