BEGIN:VCALENDAR
VERSION:2.0
PRODID:-//Squarespace Inc/Squarespace 6//v6//EN
BEGIN:VEVENT
UID:606b09f15abc9a4f83a3a802@squarespace.com
DTSTAMP:20210405T130512Z
DTSTART:20210406T130000Z
DTEND:20210406T141500Z
SUMMARY:ECOSOC Intergenerational Dialogue
END:VEVENT
END:VCALENDAR
