BEGIN:VCALENDAR
VERSION:2.0
PRODID:-//Squarespace Inc/Squarespace 6//v6//EN
BEGIN:VEVENT
UID:604fa9657171fe0ad52e69c7@squarespace.com
DTSTAMP:20210315T184257Z
DTSTART:20210407T130000Z
DTEND:20210408T200000Z
SUMMARY:ECOSOC Forum 
END:VEVENT
END:VCALENDAR
