BEGIN:VCALENDAR
VERSION:2.0
PRODID:-//Squarespace Inc/Squarespace 6//v6//EN
BEGIN:VEVENT
UID:602243c4c1e1cc6421d54fc3@squarespace.com
DTSTAMP:20210209T081600Z
DTSTART:20210211T150000Z
DTEND:20210211T161500Z
SUMMARY:Equitable Vaccine Distribution? From Local to Global Perspectives
END:VEVENT
END:VCALENDAR
