BEGIN:VCALENDAR
VERSION:2.0
PRODID:-//Squarespace Inc/Squarespace 6//v6//EN
BEGIN:VEVENT
UID:5fc7899e0791337046e83651@squarespace.com
DTSTAMP:20201202T123710Z
DTSTART:20201211T150000Z
DTEND:20201211T160000Z
SUMMARY:Driving Innovation and Entrepreneurship
END:VEVENT
END:VCALENDAR
