BEGIN:VCALENDAR
VERSION:2.0
PRODID:-//Squarespace Inc/Squarespace 6//v6//EN
BEGIN:VEVENT
UID:5ff43b4f7d47bb7ab02c8e25@squarespace.com
DTSTAMP:20210105T101502Z
DTSTART:20210122T150000Z
DTEND:20210122T160500Z
SUMMARY:Driving Adaptation and Resilience
END:VEVENT
END:VCALENDAR
