BEGIN:VCALENDAR
VERSION:2.0
PRODID:-//Squarespace Inc/Squarespace 6//v6//EN
BEGIN:VEVENT
UID:6135b2c77c894d65d32f62fd@squarespace.com
DTSTAMP:20210906T062408Z
DTSTART:20210909T140000Z
DTEND:20210909T152000Z
SUMMARY:Digital Security Training For Journalists
END:VEVENT
END:VCALENDAR
