BEGIN:VCALENDAR
VERSION:2.0
PRODID:-//Squarespace Inc/Squarespace 6//v6//EN
BEGIN:VEVENT
UID:606b00a7baa85b545491d41e@squarespace.com
DTSTAMP:20210405T122709Z
DTSTART:20210416T163000Z
DTEND:20210416T174500Z
SUMMARY:Digital Inequality: How to Bridge the Divide
END:VEVENT
END:VCALENDAR
