BEGIN:VCALENDAR
VERSION:2.0
PRODID:-//Squarespace Inc/Squarespace 6//v6//EN
BEGIN:VEVENT
UID:60ea07af66be7e490f18f522@squarespace.com
DTSTAMP:20210710T210512Z
DTSTART:20210714T140000Z
DTEND:20210715T152500Z
SUMMARY:Devex @ The UN Food Systems Pre-Summit
END:VEVENT
END:VCALENDAR
