BEGIN:VCALENDAR
VERSION:2.0
PRODID:-//Squarespace Inc/Squarespace 6//v6//EN
BEGIN:VEVENT
UID:604f2e05bb309a601aad2859@squarespace.com
DTSTAMP:20210315T095545Z
DTSTART:20210320T080000Z
DTEND:20210320T113000Z
SUMMARY:Designing Systemic Change Programme
END:VEVENT
END:VCALENDAR
