BEGIN:VCALENDAR
VERSION:2.0
PRODID:-//Squarespace Inc/Squarespace 6//v6//EN
BEGIN:VEVENT
UID:60da1786842c1e2a0757e352@squarespace.com
DTSTAMP:20210628T184504Z
DTSTART:20210629T140000Z
DTEND:20210629T151500Z
SUMMARY:Data4Youth Webinar
END:VEVENT
END:VCALENDAR
