BEGIN:VCALENDAR
VERSION:2.0
PRODID:-//Squarespace Inc/Squarespace 6//v6//EN
BEGIN:VEVENT
UID:608c505be722b75e3724a9bf@squarespace.com
DTSTAMP:20210430T190501Z
DTSTART:20210505T163000Z
DTEND:20210505T173000Z
SUMMARY:COVID-19 Impact on the SDGs
END:VEVENT
END:VCALENDAR
