BEGIN:VCALENDAR
VERSION:2.0
PRODID:-//Squarespace Inc/Squarespace 6//v6//EN
BEGIN:VEVENT
UID:5fc4a4544f9837572072d5b7@squarespace.com
DTSTAMP:20201130T075350Z
DTSTART:20201203T173000Z
DTEND:20201203T183000Z
SUMMARY:COVID-19 Data Innovation Centre Launch
END:VEVENT
END:VCALENDAR
