BEGIN:VCALENDAR
VERSION:2.0
PRODID:-//Squarespace Inc/Squarespace 6//v6//EN
BEGIN:VEVENT
UID:60d9ca587fd00241b98c17c0@squarespace.com
DTSTAMP:20210628T131642Z
DTSTART:20210701T133000Z
DTEND:20210701T143000Z
SUMMARY:#coveringCOVID Webinar
END:VEVENT
END:VCALENDAR
