BEGIN:VCALENDAR
VERSION:2.0
PRODID:-//Squarespace Inc/Squarespace 6//v6//EN
BEGIN:VEVENT
UID:5ffa4ced93bc6a5d87eefc25@squarespace.com
DTSTAMP:20210110T004554Z
DTSTART:20210112T150000Z
DTEND:20210112T160000Z
SUMMARY:Covering The UK Corona Virus Variant
END:VEVENT
END:VCALENDAR
