BEGIN:VCALENDAR
VERSION:2.0
PRODID:-//Squarespace Inc/Squarespace 6//v6//EN
BEGIN:VEVENT
UID:605888079d0803023bbdcc3d@squarespace.com
DTSTAMP:20210322T121119Z
DTSTART:20210330T140000Z
DTEND:20210330T150000Z
SUMMARY:Conversations on Human Development Report 2020
END:VEVENT
END:VCALENDAR
