BEGIN:VCALENDAR
VERSION:2.0
PRODID:-//Squarespace Inc/Squarespace 6//v6//EN
BEGIN:VEVENT
UID:5f77aefc41ea526420fe5a81@squarespace.com
DTSTAMP:20201002T225628Z
DTSTART:20201005T120000Z
DTEND:20201005T130000Z
SUMMARY:Competing for Order. Confronting the Long Crisis of Multilateralism
END:VEVENT
END:VCALENDAR
