BEGIN:VCALENDAR
VERSION:2.0
PRODID:-//Squarespace Inc/Squarespace 6//v6//EN
BEGIN:VEVENT
UID:5ff31d352fb5c129f25e2db5@squarespace.com
DTSTAMP:20210107T111903Z
DTSTART:20210113T130000Z
DTEND:20210118T143000Z
SUMMARY:Climate Resilient Food Systems For Africa
END:VEVENT
END:VCALENDAR
