BEGIN:VCALENDAR
VERSION:2.0
PRODID:-//Squarespace Inc/Squarespace 6//v6//EN
BEGIN:VEVENT
UID:5fcfe57cdab39e12420df057@squarespace.com
DTSTAMP:20201208T210104Z
DTSTART:20201210T160000Z
DTEND:20201210T170000Z
SUMMARY:Civil Society Solidarity
END:VEVENT
END:VCALENDAR
