BEGIN:VCALENDAR
VERSION:2.0
PRODID:-//Squarespace Inc/Squarespace 6//v6//EN
BEGIN:VEVENT
UID:5fce0ebdcded405bb8ff0d98@squarespace.com
DTSTAMP:20201207T112456Z
DTSTART:20201208T130000Z
DTEND:20201208T150000Z
SUMMARY:Cities Are Listening
END:VEVENT
END:VCALENDAR
