BEGIN:VCALENDAR
VERSION:2.0
PRODID:-//Squarespace Inc/Squarespace 6//v6//EN
BEGIN:VEVENT
UID:60191ec3b6a83161852b79de@squarespace.com
DTSTAMP:20210202T094715Z
DTSTART:20210204T160000Z
DTEND:20210204T173000Z
SUMMARY:Civil Society Briefing: Childhood After Atrocity Crimes
END:VEVENT
END:VCALENDAR
