BEGIN:VCALENDAR
VERSION:2.0
PRODID:-//Squarespace Inc/Squarespace 6//v6//EN
BEGIN:VEVENT
UID:603388f9fb188f7d1704a58c@squarespace.com
DTSTAMP:20210222T121713Z
DTSTART:20210224T110000Z
DTEND:20210224T130000Z
SUMMARY:CEO Roundtable Webinar
END:VEVENT
END:VCALENDAR
