BEGIN:VCALENDAR
VERSION:2.0
PRODID:-//Squarespace Inc/Squarespace 6//v6//EN
BEGIN:VEVENT
UID:5fcdf735eb18547f4ba87b64@squarespace.com
DTSTAMP:20201207T095230Z
DTSTART:20201208T140000Z
DTEND:20201208T154000Z
SUMMARY:Caring For Climate
END:VEVENT
END:VCALENDAR
