BEGIN:VCALENDAR
VERSION:2.0
PRODID:-//Squarespace Inc/Squarespace 6//v6//EN
BEGIN:VEVENT
UID:5fabaf6cebccd02ae28bcbc2@squarespace.com
DTSTAMP:20201111T094239Z
DTSTART:20201116T150000Z
DTEND:20201116T170000Z
SUMMARY:Bold Businesses For A Better Plannet
GEO:40.720756;-74.000761
LOCATION:Online
END:VEVENT
END:VCALENDAR
