BEGIN:VCALENDAR
VERSION:2.0
PRODID:-//Squarespace Inc/Squarespace 6//v6//EN
BEGIN:VEVENT
UID:61a52fa377f4dd7160dd6e9f@squarespace.com
DTSTAMP:20211129T200001Z
DTSTART:20211130T133000Z
DTEND:20211130T150000Z
SUMMARY:BigFintech & Sustainability: The Necessary Convergence
END:VEVENT
END:VCALENDAR
