BEGIN:VCALENDAR
VERSION:2.0
PRODID:-//Squarespace Inc/Squarespace 6//v6//EN
BEGIN:VEVENT
UID:60869069eada9c52861cf2e2@squarespace.com
DTSTAMP:20210426T101441Z
DTSTART:20210428T140000Z
DTEND:20210428T150500Z
SUMMARY:American Express Leadership Academy Global Alumni Summit
END:VEVENT
END:VCALENDAR
