BEGIN:VCALENDAR
VERSION:2.0
PRODID:-//Squarespace Inc/Squarespace 6//v6//EN
BEGIN:VEVENT
UID:6189702090b4d32c557a7d15@squarespace.com
DTSTAMP:20211108T184924Z
DTSTART:20211110T143000Z
DTEND:20211110T163000Z
SUMMARY:Advancing the SDGs: The Role of Science
END:VEVENT
END:VCALENDAR
