BEGIN:VCALENDAR
VERSION:2.0
PRODID:-//Squarespace Inc/Squarespace 6//v6//EN
BEGIN:VEVENT
UID:5fbe4046f81c9a2a0c6e4f5d@squarespace.com
DTSTAMP:20201125T113814Z
DTSTART:20201203T010000Z
DTEND:20201203T020000Z
SUMMARY:Addressing Gender-Based Violence at the Local Level
END:VEVENT
END:VCALENDAR
