BEGIN:VCALENDAR
VERSION:2.0
PRODID:-//Squarespace Inc/Squarespace 6//v6//EN
BEGIN:VEVENT
UID:6018049681071460818d14cb@squarespace.com
DTSTAMP:20210201T134331Z
DTSTART:20210210T140000Z
DTEND:20210210T150000Z
SUMMARY:Accelerating Sustainable Seafood
END:VEVENT
END:VCALENDAR
