BEGIN:VCALENDAR
VERSION:2.0
PRODID:-//Squarespace Inc/Squarespace 6//v6//EN
BEGIN:VEVENT
UID:60d10d0341b3160fdcad0710@squarespace.com
DTSTAMP:20210621T221040Z
DTSTART:20210625T120000Z
DTEND:20210625T130500Z
SUMMARY:A Data L.I.F.T. For Gender Equality
END:VEVENT
END:VCALENDAR
