BEGIN:VCALENDAR
VERSION:2.0
PRODID:-//Squarespace Inc/Squarespace 6//v6//EN
BEGIN:VEVENT
UID:60338170198a2726950f6e0a@squarespace.com
DTSTAMP:20210222T101700Z
DTSTART:20210223T150000Z
DTEND:20210223T170000Z
SUMMARY:A Call for Social Justice in the Digital Economy
END:VEVENT
END:VCALENDAR
