BEGIN:VCALENDAR
VERSION:2.0
PRODID:-//Squarespace Inc/Squarespace 6//v6//EN
BEGIN:VEVENT
UID:5fab22c37c9a080d16493afd@squarespace.com
DTSTAMP:20201110T233830Z
DTSTART:20201116T140000Z
DTEND:20201118T230000Z
SUMMARY:9th Annual UN Forum on Business and Human Rights
GEO:40.720756;-74.000761
LOCATION:Online
END:VEVENT
END:VCALENDAR
