BEGIN:VCALENDAR
VERSION:2.0
PRODID:-//Squarespace Inc/Squarespace 6//v6//EN
BEGIN:VEVENT
UID:604fa71e435bc9431511b78c@squarespace.com
DTSTAMP:20210315T183226Z
DTSTART:20210316T130000Z
DTEND:20210316T143000Z
SUMMARY:16x16 Dialogue Series
END:VEVENT
END:VCALENDAR
